BEGIN:VCALENDAR
VERSION:2.0
PRODID:-//Plains District Memorial Museum - ECPv6.15.18//NONSGML v1.0//EN
CALSCALE:GREGORIAN
METHOD:PUBLISH
X-WR-CALNAME:Plains District Memorial Museum
X-ORIGINAL-URL:https://plainsmuseum.com
X-WR-CALDESC:Events for Plains District Memorial Museum
REFRESH-INTERVAL;VALUE=DURATION:PT1H
X-Robots-Tag:noindex
X-PUBLISHED-TTL:PT1H
BEGIN:VTIMEZONE
TZID:America/New_York
BEGIN:DAYLIGHT
TZOFFSETFROM:-0500
TZOFFSETTO:-0400
TZNAME:EDT
DTSTART:20250309T070000
END:DAYLIGHT
BEGIN:STANDARD
TZOFFSETFROM:-0400
TZOFFSETTO:-0500
TZNAME:EST
DTSTART:20251102T060000
END:STANDARD
BEGIN:DAYLIGHT
TZOFFSETFROM:-0500
TZOFFSETTO:-0400
TZNAME:EDT
DTSTART:20260308T070000
END:DAYLIGHT
BEGIN:STANDARD
TZOFFSETFROM:-0400
TZOFFSETTO:-0500
TZNAME:EST
DTSTART:20261101T060000
END:STANDARD
BEGIN:DAYLIGHT
TZOFFSETFROM:-0500
TZOFFSETTO:-0400
TZNAME:EDT
DTSTART:20270314T070000
END:DAYLIGHT
BEGIN:STANDARD
TZOFFSETFROM:-0400
TZOFFSETTO:-0500
TZNAME:EST
DTSTART:20271107T060000
END:STANDARD
END:VTIMEZONE
BEGIN:VEVENT
DTSTART;TZID=America/New_York:20260315T160000
DTEND;TZID=America/New_York:20260315T180000
DTSTAMP:20260423T165926
CREATED:20260213T210425Z
LAST-MODIFIED:20260213T210615Z
UID:2700-1773590400-1773597600@plainsmuseum.com
SUMMARY:Spring Tea
DESCRIPTION:For more information or reservations call 540-896-7900 or stop by the museum when open. \n\n\n\nYou can also contact Wilda Wine @ wildawine@aol.com or Peggy Grandle at cgrand66@comcast.net
URL:https://plainsmuseum.com/event/spring-tea/
LOCATION:Plains District Museum\, 176 Main Street\, Timberville\, Virginia\, 22815\, United States
ATTACH;FMTTYPE=image/png:https://plainsmuseum.com/wp-content/uploads/2026/02/tea2.png
END:VEVENT
END:VCALENDAR