BEGIN:VCALENDAR
VERSION:2.0
PRODID:-//Plains District Memorial Museum - ECPv6.15.18//NONSGML v1.0//EN
CALSCALE:GREGORIAN
METHOD:PUBLISH
X-ORIGINAL-URL:https://plainsmuseum.com
X-WR-CALDESC:Events for Plains District Memorial Museum
REFRESH-INTERVAL;VALUE=DURATION:PT1H
X-Robots-Tag:noindex
X-PUBLISHED-TTL:PT1H
BEGIN:VTIMEZONE
TZID:America/New_York
BEGIN:DAYLIGHT
TZOFFSETFROM:-0500
TZOFFSETTO:-0400
TZNAME:EDT
DTSTART:20240310T070000
END:DAYLIGHT
BEGIN:STANDARD
TZOFFSETFROM:-0400
TZOFFSETTO:-0500
TZNAME:EST
DTSTART:20241103T060000
END:STANDARD
BEGIN:DAYLIGHT
TZOFFSETFROM:-0500
TZOFFSETTO:-0400
TZNAME:EDT
DTSTART:20250309T070000
END:DAYLIGHT
BEGIN:STANDARD
TZOFFSETFROM:-0400
TZOFFSETTO:-0500
TZNAME:EST
DTSTART:20251102T060000
END:STANDARD
BEGIN:DAYLIGHT
TZOFFSETFROM:-0500
TZOFFSETTO:-0400
TZNAME:EDT
DTSTART:20260308T070000
END:DAYLIGHT
BEGIN:STANDARD
TZOFFSETFROM:-0400
TZOFFSETTO:-0500
TZNAME:EST
DTSTART:20261101T060000
END:STANDARD
END:VTIMEZONE
BEGIN:VEVENT
DTSTART;TZID=America/New_York:20251109T140000
DTEND;TZID=America/New_York:20251109T160000
DTSTAMP:20260423T231910
CREATED:20251020T194716Z
LAST-MODIFIED:20251020T200655Z
UID:2680-1762696800-1762704000@plainsmuseum.com
SUMMARY:Veterans Day Talk
DESCRIPTION:David Wood of Broadway will speak on his book Chiefs Letters: A World War II Memoir.  \n\n\n\nThis book was written in memory of his father Harold Wood. \n\n\n\nBoth David and his father have volunteered and served on the Plains District Museum Board of Directors.
URL:https://plainsmuseum.com/event/veterans-day-talk/
LOCATION:Plains District Museum\, 176 Main Street\, Timberville\, Virginia\, 22815\, United States
ATTACH;FMTTYPE=image/webp:https://plainsmuseum.com/wp-content/uploads/2025/10/ChiefsLettersfront.webp
END:VEVENT
END:VCALENDAR