BEGIN:VCALENDAR
VERSION:2.0
PRODID:-//Plains District Memorial Museum - ECPv6.15.18//NONSGML v1.0//EN
CALSCALE:GREGORIAN
METHOD:PUBLISH
X-WR-CALNAME:Plains District Memorial Museum
X-ORIGINAL-URL:https://plainsmuseum.com
X-WR-CALDESC:Events for Plains District Memorial Museum
REFRESH-INTERVAL;VALUE=DURATION:PT1H
X-Robots-Tag:noindex
X-PUBLISHED-TTL:PT1H
BEGIN:VTIMEZONE
TZID:America/New_York
BEGIN:DAYLIGHT
TZOFFSETFROM:-0500
TZOFFSETTO:-0400
TZNAME:EDT
DTSTART:20240310T070000
END:DAYLIGHT
BEGIN:STANDARD
TZOFFSETFROM:-0400
TZOFFSETTO:-0500
TZNAME:EST
DTSTART:20241103T060000
END:STANDARD
BEGIN:DAYLIGHT
TZOFFSETFROM:-0500
TZOFFSETTO:-0400
TZNAME:EDT
DTSTART:20250309T070000
END:DAYLIGHT
BEGIN:STANDARD
TZOFFSETFROM:-0400
TZOFFSETTO:-0500
TZNAME:EST
DTSTART:20251102T060000
END:STANDARD
BEGIN:DAYLIGHT
TZOFFSETFROM:-0500
TZOFFSETTO:-0400
TZNAME:EDT
DTSTART:20260308T070000
END:DAYLIGHT
BEGIN:STANDARD
TZOFFSETFROM:-0400
TZOFFSETTO:-0500
TZNAME:EST
DTSTART:20261101T060000
END:STANDARD
END:VTIMEZONE
BEGIN:VEVENT
DTSTART;TZID=America/New_York:20250413T140000
DTEND;TZID=America/New_York:20250413T153000
DTSTAMP:20260424T115753
CREATED:20250326T152535Z
LAST-MODIFIED:20250331T214755Z
UID:2588-1744552800-1744558200@plainsmuseum.com
SUMMARY:Proposed Shenandoah Rail Trail: Dr. Don Hindman
DESCRIPTION:Dr. Don Hindman\, Director of the Shenandoah Rail Trail Exploratory Partnership\, will speak on proposed Shenandoah Rail Trail from Broadway to Front Royal. This event was originally scheduled in January but postponed because of snow.His talk at the Museum will follow a VDT Community meeting at Plains District Community Center on April 8\, 5-7 pm seeking input from the Community on the future of the Rail Trail.Dr. Hindman is a retired physician and bicycle enthusiast.
URL:https://plainsmuseum.com/event/proposed-shenandoah-rail-trail-dr-don-hindman/
LOCATION:Plains District Museum\, 176 Main Street\, Timberville\, Virginia\, 22815\, United States
END:VEVENT
END:VCALENDAR