BEGIN:VCALENDAR
VERSION:2.0
PRODID:-//Plains District Memorial Museum - ECPv6.15.18//NONSGML v1.0//EN
CALSCALE:GREGORIAN
METHOD:PUBLISH
X-WR-CALNAME:Plains District Memorial Museum
X-ORIGINAL-URL:https://plainsmuseum.com
X-WR-CALDESC:Events for Plains District Memorial Museum
REFRESH-INTERVAL;VALUE=DURATION:PT1H
X-Robots-Tag:noindex
X-PUBLISHED-TTL:PT1H
BEGIN:VTIMEZONE
TZID:America/New_York
BEGIN:DAYLIGHT
TZOFFSETFROM:-0500
TZOFFSETTO:-0400
TZNAME:EDT
DTSTART:20240310T070000
END:DAYLIGHT
BEGIN:STANDARD
TZOFFSETFROM:-0400
TZOFFSETTO:-0500
TZNAME:EST
DTSTART:20241103T060000
END:STANDARD
BEGIN:DAYLIGHT
TZOFFSETFROM:-0500
TZOFFSETTO:-0400
TZNAME:EDT
DTSTART:20250309T070000
END:DAYLIGHT
BEGIN:STANDARD
TZOFFSETFROM:-0400
TZOFFSETTO:-0500
TZNAME:EST
DTSTART:20251102T060000
END:STANDARD
BEGIN:DAYLIGHT
TZOFFSETFROM:-0500
TZOFFSETTO:-0400
TZNAME:EDT
DTSTART:20260308T070000
END:DAYLIGHT
BEGIN:STANDARD
TZOFFSETFROM:-0400
TZOFFSETTO:-0500
TZNAME:EST
DTSTART:20261101T060000
END:STANDARD
END:VTIMEZONE
BEGIN:VEVENT
DTSTART;TZID=America/New_York:20250119T140000
DTEND;TZID=America/New_York:20250119T153000
DTSTAMP:20260424T165909
CREATED:20241228T022426Z
LAST-MODIFIED:20241228T022432Z
UID:2538-1737295200-1737300600@plainsmuseum.com
SUMMARY:Lecture Series: “The Forgotten People of Rockingham County”
DESCRIPTION:Rev. William Zirk of New Market\, VA will speak on  “The Forgotten People of Rockingham County.” a look at the early 20th c Alms (Poor) Houses in the County. Bill’s grandfather and father were both superintendents at the House near Pleasant Valley. \n\n\n\nBill is also the author of a recently published book\, The Life of a Printers Devil\,” the story of his father-in-law\, Emory Shoemaker of Dayton.
URL:https://plainsmuseum.com/event/lecture-series-the-forgotten-people-of-rockingham-county/
LOCATION:Plains District Museum\, 176 Main Street\, Timberville\, Virginia\, 22815\, United States
ATTACH;FMTTYPE=image/png:https://plainsmuseum.com/wp-content/uploads/2023/08/25bev.png
END:VEVENT
END:VCALENDAR