BEGIN:VCALENDAR
VERSION:2.0
PRODID:-//Plains District Memorial Museum - ECPv6.15.18//NONSGML v1.0//EN
CALSCALE:GREGORIAN
METHOD:PUBLISH
X-ORIGINAL-URL:https://plainsmuseum.com
X-WR-CALDESC:Events for Plains District Memorial Museum
REFRESH-INTERVAL;VALUE=DURATION:PT1H
X-Robots-Tag:noindex
X-PUBLISHED-TTL:PT1H
BEGIN:VTIMEZONE
TZID:America/New_York
BEGIN:DAYLIGHT
TZOFFSETFROM:-0500
TZOFFSETTO:-0400
TZNAME:EDT
DTSTART:20230312T070000
END:DAYLIGHT
BEGIN:STANDARD
TZOFFSETFROM:-0400
TZOFFSETTO:-0500
TZNAME:EST
DTSTART:20231105T060000
END:STANDARD
BEGIN:DAYLIGHT
TZOFFSETFROM:-0500
TZOFFSETTO:-0400
TZNAME:EDT
DTSTART:20240310T070000
END:DAYLIGHT
BEGIN:STANDARD
TZOFFSETFROM:-0400
TZOFFSETTO:-0500
TZNAME:EST
DTSTART:20241103T060000
END:STANDARD
BEGIN:DAYLIGHT
TZOFFSETFROM:-0500
TZOFFSETTO:-0400
TZNAME:EDT
DTSTART:20250309T070000
END:DAYLIGHT
BEGIN:STANDARD
TZOFFSETFROM:-0400
TZOFFSETTO:-0500
TZNAME:EST
DTSTART:20251102T060000
END:STANDARD
END:VTIMEZONE
BEGIN:VEVENT
DTSTART;TZID=America/New_York:20241215T140000
DTEND;TZID=America/New_York:20241215T160000
DTSTAMP:20260424T183418
CREATED:20241209T195420Z
LAST-MODIFIED:20241209T201316Z
UID:2529-1734271200-1734278400@plainsmuseum.com
SUMMARY:Lecture Series
DESCRIPTION:Talk on the proposed Shenandoah Rail Trail from Broadway to Front Royal \n\n\n\nDr. Don Hindman\, Chair of the Shenandoah Rail Trail Exploratory Partnership\, will give an update on the status of the trail that will pass through Timberville and 10 other communities in the Shenandoah Valley. Dr. Hindman is a retired physician\, an avid cyclist\, and an enthusiast promoting the health and economic benefits that the Trail will offer to our community.
URL:https://plainsmuseum.com/event/lecture-series/
LOCATION:Virginia
ATTACH;FMTTYPE=image/png:https://plainsmuseum.com/wp-content/uploads/2023/08/25bev.png
END:VEVENT
END:VCALENDAR