BEGIN:VCALENDAR
VERSION:2.0
PRODID:-//Plains District Memorial Museum - ECPv6.15.18//NONSGML v1.0//EN
CALSCALE:GREGORIAN
METHOD:PUBLISH
X-WR-CALNAME:Plains District Memorial Museum
X-ORIGINAL-URL:https://plainsmuseum.com
X-WR-CALDESC:Events for Plains District Memorial Museum
REFRESH-INTERVAL;VALUE=DURATION:PT1H
X-Robots-Tag:noindex
X-PUBLISHED-TTL:PT1H
BEGIN:VTIMEZONE
TZID:America/New_York
BEGIN:DAYLIGHT
TZOFFSETFROM:-0500
TZOFFSETTO:-0400
TZNAME:EDT
DTSTART:20230312T070000
END:DAYLIGHT
BEGIN:STANDARD
TZOFFSETFROM:-0400
TZOFFSETTO:-0500
TZNAME:EST
DTSTART:20231105T060000
END:STANDARD
BEGIN:DAYLIGHT
TZOFFSETFROM:-0500
TZOFFSETTO:-0400
TZNAME:EDT
DTSTART:20240310T070000
END:DAYLIGHT
BEGIN:STANDARD
TZOFFSETFROM:-0400
TZOFFSETTO:-0500
TZNAME:EST
DTSTART:20241103T060000
END:STANDARD
BEGIN:DAYLIGHT
TZOFFSETFROM:-0500
TZOFFSETTO:-0400
TZNAME:EDT
DTSTART:20250309T070000
END:DAYLIGHT
BEGIN:STANDARD
TZOFFSETFROM:-0400
TZOFFSETTO:-0500
TZNAME:EST
DTSTART:20251102T060000
END:STANDARD
END:VTIMEZONE
BEGIN:VEVENT
DTSTART;TZID=America/New_York:20241103T130000
DTEND;TZID=America/New_York:20241103T160000
DTSTAMP:20260424T233104
CREATED:20241020T163836Z
LAST-MODIFIED:20241104T133954Z
UID:2502-1730638800-1730649600@plainsmuseum.com
SUMMARY:Meet Our Local Artists/Art Sale
DESCRIPTION:HOLIDAY SHOPPING \n\n\n\nDrop by the Museum to meet local artists and see their creations. \n\n\n\nItems for sale include Jewelry\, Painting\, Illustrations\, Nature Photography\, Custom Made Knives\, Fall Decorations\, Wreaths\, and more.
URL:https://plainsmuseum.com/event/meet-our-local-artists-art-sale/
LOCATION:Plains District Museum\, 176 Main Street\, Timberville\, Virginia\, 22815\, United States
ATTACH;FMTTYPE=image/png:https://plainsmuseum.com/wp-content/uploads/2024/10/Untitled.png
END:VEVENT
BEGIN:VEVENT
DTSTART;TZID=America/New_York:20241122T080000
DTEND;TZID=America/New_York:20241123T130000
DTSTAMP:20260424T233104
CREATED:20241112T202326Z
LAST-MODIFIED:20241112T203825Z
UID:2520-1732262400-1732366800@plainsmuseum.com
SUMMARY:Annual Indoor Holiday Yard Sale
DESCRIPTION:Friday and Saturday\, November 22-23 (8 AM – 1 PM each day) \n\n\n\nAssorted Christmas and holiday decorationsHousewares\, appliances\, glassware\, kitchen supplies\, pictures\, books\, toys and more! \n\n\n\nA great opportunity to pick up needed or just interesting items at bargain prices. \n\n\n\nAll proceeds go toward the Operating Budget of the Museum.
URL:https://plainsmuseum.com/event/annual-indoor-holiday-yard-sale/
LOCATION:Plains District Museum\, 176 Main Street\, Timberville\, Virginia\, 22815\, United States
ATTACH;FMTTYPE=image/png:https://plainsmuseum.com/wp-content/uploads/2024/11/yardsalex.png
END:VEVENT
END:VCALENDAR