BEGIN:VCALENDAR
VERSION:2.0
PRODID:-//Plains District Memorial Museum - ECPv6.15.18//NONSGML v1.0//EN
CALSCALE:GREGORIAN
METHOD:PUBLISH
X-WR-CALNAME:Plains District Memorial Museum
X-ORIGINAL-URL:https://plainsmuseum.com
X-WR-CALDESC:Events for Plains District Memorial Museum
REFRESH-INTERVAL;VALUE=DURATION:PT1H
X-Robots-Tag:noindex
X-PUBLISHED-TTL:PT1H
BEGIN:VTIMEZONE
TZID:America/New_York
BEGIN:DAYLIGHT
TZOFFSETFROM:-0500
TZOFFSETTO:-0400
TZNAME:EDT
DTSTART:20230312T070000
END:DAYLIGHT
BEGIN:STANDARD
TZOFFSETFROM:-0400
TZOFFSETTO:-0500
TZNAME:EST
DTSTART:20231105T060000
END:STANDARD
BEGIN:DAYLIGHT
TZOFFSETFROM:-0500
TZOFFSETTO:-0400
TZNAME:EDT
DTSTART:20240310T070000
END:DAYLIGHT
BEGIN:STANDARD
TZOFFSETFROM:-0400
TZOFFSETTO:-0500
TZNAME:EST
DTSTART:20241103T060000
END:STANDARD
BEGIN:DAYLIGHT
TZOFFSETFROM:-0500
TZOFFSETTO:-0400
TZNAME:EDT
DTSTART:20250309T070000
END:DAYLIGHT
BEGIN:STANDARD
TZOFFSETFROM:-0400
TZOFFSETTO:-0500
TZNAME:EST
DTSTART:20251102T060000
END:STANDARD
END:VTIMEZONE
BEGIN:VEVENT
DTSTART;TZID=America/New_York:20240628T080000
DTEND;TZID=America/New_York:20240629T130000
DTSTAMP:20260425T090237
CREATED:20240607T153230Z
LAST-MODIFIED:20240607T154605Z
UID:2287-1719561600-1719666000@plainsmuseum.com
SUMMARY:Indoor Yard Sale
DESCRIPTION:A great opportunity to pick up needed or just interesting items at bargain prices. \n\n\n\nOld and New Treasures including books\, housewares\, small appliances\, glassware\, tools\, toys\, movies\, lamps\, home décor\, and more. \n\n\n\nAll proceeds go toward the Museum’s operating budget. \n\n\n\nFriday and Saturday\, June 28 and 29 \n\n\n\n8 AM – 1 PM each day.
URL:https://plainsmuseum.com/event/indoor-yard-sale-2/
LOCATION:Plains District Museum\, 176 Main Street\, Timberville\, Virginia\, 22815\, United States
ATTACH;FMTTYPE=image/png:https://plainsmuseum.com/wp-content/uploads/2022/07/yardsale.png
END:VEVENT
END:VCALENDAR