BEGIN:VCALENDAR
VERSION:2.0
PRODID:-//Plains District Memorial Museum - ECPv6.15.18//NONSGML v1.0//EN
CALSCALE:GREGORIAN
METHOD:PUBLISH
X-WR-CALNAME:Plains District Memorial Museum
X-ORIGINAL-URL:https://plainsmuseum.com
X-WR-CALDESC:Events for Plains District Memorial Museum
REFRESH-INTERVAL;VALUE=DURATION:PT1H
X-Robots-Tag:noindex
X-PUBLISHED-TTL:PT1H
BEGIN:VTIMEZONE
TZID:America/New_York
BEGIN:DAYLIGHT
TZOFFSETFROM:-0500
TZOFFSETTO:-0400
TZNAME:EDT
DTSTART:20240310T070000
END:DAYLIGHT
BEGIN:STANDARD
TZOFFSETFROM:-0400
TZOFFSETTO:-0500
TZNAME:EST
DTSTART:20241103T060000
END:STANDARD
BEGIN:DAYLIGHT
TZOFFSETFROM:-0500
TZOFFSETTO:-0400
TZNAME:EDT
DTSTART:20250309T070000
END:DAYLIGHT
BEGIN:STANDARD
TZOFFSETFROM:-0400
TZOFFSETTO:-0500
TZNAME:EST
DTSTART:20251102T060000
END:STANDARD
BEGIN:DAYLIGHT
TZOFFSETFROM:-0500
TZOFFSETTO:-0400
TZNAME:EDT
DTSTART:20260308T070000
END:DAYLIGHT
BEGIN:STANDARD
TZOFFSETFROM:-0400
TZOFFSETTO:-0500
TZNAME:EST
DTSTART:20261101T060000
END:STANDARD
END:VTIMEZONE
BEGIN:VEVENT
DTSTART;TZID=America/New_York:20250815T080000
DTEND;TZID=America/New_York:20250816T130000
DTSTAMP:20260424T060300
CREATED:20250808T142854Z
LAST-MODIFIED:20250808T142902Z
UID:2648-1755244800-1755349200@plainsmuseum.com
SUMMARY:August Indoor Yard Sale
DESCRIPTION:8:00 am – 1:00 both days. \n\n\n\nTake advantage of the Museum’s “House Cleaning Sale” as we prepare to move Yard Sale into a new location in the Museum.  All items over $1 will be HALF-PRICE!!! This includes our usual assortment of housewares\, small appliances\, books\, linens\, jewelry\, toys\, collectibles\, and MORE. \n\n\n\nCome early for best buys.
URL:https://plainsmuseum.com/event/august-indoor-yard-sale/
LOCATION:Plains District Museum\, 176 Main Street\, Timberville\, Virginia\, 22815\, United States
ATTACH;FMTTYPE=image/png:https://plainsmuseum.com/wp-content/uploads/2022/07/yardsale.png
END:VEVENT
END:VCALENDAR