BEGIN:VCALENDAR
VERSION:2.0
PRODID:-//Plains District Memorial Museum - ECPv6.15.18//NONSGML v1.0//EN
CALSCALE:GREGORIAN
METHOD:PUBLISH
X-ORIGINAL-URL:https://plainsmuseum.com
X-WR-CALDESC:Events for Plains District Memorial Museum
REFRESH-INTERVAL;VALUE=DURATION:PT1H
X-Robots-Tag:noindex
X-PUBLISHED-TTL:PT1H
BEGIN:VTIMEZONE
TZID:America/New_York
BEGIN:DAYLIGHT
TZOFFSETFROM:-0500
TZOFFSETTO:-0400
TZNAME:EDT
DTSTART:20240310T070000
END:DAYLIGHT
BEGIN:STANDARD
TZOFFSETFROM:-0400
TZOFFSETTO:-0500
TZNAME:EST
DTSTART:20241103T060000
END:STANDARD
BEGIN:DAYLIGHT
TZOFFSETFROM:-0500
TZOFFSETTO:-0400
TZNAME:EDT
DTSTART:20250309T070000
END:DAYLIGHT
BEGIN:STANDARD
TZOFFSETFROM:-0400
TZOFFSETTO:-0500
TZNAME:EST
DTSTART:20251102T060000
END:STANDARD
BEGIN:DAYLIGHT
TZOFFSETFROM:-0500
TZOFFSETTO:-0400
TZNAME:EDT
DTSTART:20260308T070000
END:DAYLIGHT
BEGIN:STANDARD
TZOFFSETFROM:-0400
TZOFFSETTO:-0500
TZNAME:EST
DTSTART:20261101T060000
END:STANDARD
END:VTIMEZONE
BEGIN:VEVENT
DTSTART;TZID=America/New_York:20250606T080000
DTEND;TZID=America/New_York:20250607T130000
DTSTAMP:20260424T093236
CREATED:20250527T011100Z
LAST-MODIFIED:20250527T011108Z
UID:2620-1749196800-1749301200@plainsmuseum.com
SUMMARY:Spring Indoor Yard Sale
DESCRIPTION:Many new treasures! \n\n\n\n8 am – 1 pm both days.
URL:https://plainsmuseum.com/event/spring-indoor-yard-sale/
LOCATION:Virginia
ATTACH;FMTTYPE=image/png:https://plainsmuseum.com/wp-content/uploads/2022/07/yardsale.png
END:VEVENT
END:VCALENDAR